BEGIN:VCALENDAR
CALSCALE:GREGORIAN
PRODID:-//Ben Fortuna//iCal4j 1.0//EN
VERSION:2.0
BEGIN:VEVENT
DTSTAMP:20260122T200010Z
DTSTART:20260122T143000
DTEND:20260122T163000
SUMMARY:FY27 Budget\n\nIntroduction\n\nHardy Merrill\, Deputy Commissione
 r\, Department of Finance and Management - Room 5
TZID:America/New_York
UID:20260122T200103Z-uidGen@richgoldman-357e73
END:VEVENT
BEGIN:VALARM
TRIGGER:-PT15M
ACTION:DISPLAY
DESCRIPTION:FY27 Budget\n\nIntroduction\n\nHardy Merrill\, Deputy Commiss
 ioner\, Department of Finance and Management - Room 5
END:VALARM
END:VCALENDAR
