BEGIN:VCALENDAR
CALSCALE:GREGORIAN
PRODID:-//Ben Fortuna//iCal4j 1.0//EN
VERSION:2.0
BEGIN:VEVENT
DTSTAMP:20260121T150010Z
DTSTART:20260122T150000
DTEND:20260122T170000
SUMMARY:House Floor\n\n" - Room 31
TZID:America/New_York
UID:20260121T150131Z-uidGen@richgoldman-357e73
END:VEVENT
BEGIN:VALARM
TRIGGER:-PT15M
ACTION:DISPLAY
DESCRIPTION:House Floor\n\n" - Room 31
END:VALARM
END:VCALENDAR
