BEGIN:VCALENDAR
CALSCALE:GREGORIAN
PRODID:-//Ben Fortuna//iCal4j 1.0//EN
VERSION:2.0
BEGIN:VEVENT
DTSTAMP:20260120T230014Z
DTSTART:20260122T150000
DTEND:20260122T170000
SUMMARY:NEK Day\n\nMarth VanderWolk\, Ph.D.\, School Board Member\, Canaa
 n School Board\n\nSharon Ellingwood\, School Board Member\, NEK Choice S
 chool District - Room 28
TZID:America/New_York
UID:20260120T230024Z-uidGen@richgoldman-357e73
END:VEVENT
BEGIN:VALARM
TRIGGER:-PT15M
ACTION:DISPLAY
DESCRIPTION:NEK Day\n\nMarth VanderWolk\, Ph.D.\, School Board Member\, C
 anaan School Board\n\nSharon Ellingwood\, School Board Member\, NEK Choi
 ce School District - Room 28
END:VALARM
END:VCALENDAR
