BEGIN:VCALENDAR
CALSCALE:GREGORIAN
PRODID:-//Ben Fortuna//iCal4j 1.0//EN
VERSION:2.0
BEGIN:VEVENT
DTSTAMP:20260122T170011Z
DTSTART:20260122T150000
DTEND:20260122T170000
SUMMARY:NEK Day\n\nMeeting location update: Room 11\n\nMiles Etter\, Chai
 r\, ENSU and NEK Choice Boards\n\nMartha VanderWolk\, Ph.D\, School Boar
 d Member\, Canaan School Board\n\nSharon Ellingwood\, School Board Membe
 r\, NEK Choice School District - Room 28
TZID:America/New_York
UID:20260122T170040Z-uidGen@richgoldman-357e73
END:VEVENT
BEGIN:VALARM
TRIGGER:-PT15M
ACTION:DISPLAY
DESCRIPTION:NEK Day\n\nMeeting location update: Room 11\n\nMiles Etter\, 
 Chair\, ENSU and NEK Choice Boards\n\nMartha VanderWolk\, Ph.D\, School 
 Board Member\, Canaan School Board\n\nSharon Ellingwood\, School Board M
 ember\, NEK Choice School District - Room 28
END:VALARM
END:VCALENDAR
