BEGIN:VCALENDAR
CALSCALE:GREGORIAN
PRODID:-//Ben Fortuna//iCal4j 1.0//EN
VERSION:2.0
BEGIN:VEVENT
DTSTAMP:20260122T200010Z
DTSTART:20260122T150000
DTEND:20260122T170000
SUMMARY:NEK Day\n\nWith school district mapping discussion\n\nMartha Vand
 erWolk\, Ph.D\, School Board Member\, Canaan School Board\n\nSharon Elli
 ngwood\, School Board Member\, NEK Choice School District\n\nMiles Etter
 \, Chair\, ENSU and NEK Choice Boards - Room 28
TZID:America/New_York
UID:20260122T200107Z-uidGen@richgoldman-357e73
END:VEVENT
BEGIN:VALARM
TRIGGER:-PT15M
ACTION:DISPLAY
DESCRIPTION:NEK Day\n\nWith school district mapping discussion\n\nMartha 
 VanderWolk\, Ph.D\, School Board Member\, Canaan School Board\n\nSharon 
 Ellingwood\, School Board Member\, NEK Choice School District\n\nMiles E
 tter\, Chair\, ENSU and NEK Choice Boards - Room 28
END:VALARM
END:VCALENDAR
