BEGIN:VCALENDAR
CALSCALE:GREGORIAN
PRODID:-//Ben Fortuna//iCal4j 1.0//EN
VERSION:2.0
BEGIN:VEVENT
DTSTAMP:20260122T020010Z
DTSTART:20260122T150100
DTEND:20260122T170100
SUMMARY:H. 550 - An act relating to gender equity within Vermont’s correc
 tional facilities\n\nWalk-through - Section 3\n\nHillary Chutter-Ames\, 
 Legislative Counsel\, Office of Legislative Counsel - Room 34
TZID:America/New_York
UID:20260122T020017Z-uidGen@richgoldman-357e73
END:VEVENT
BEGIN:VALARM
TRIGGER:-PT15M
ACTION:DISPLAY
DESCRIPTION:H. 550 - An act relating to gender equity within Vermont’s co
 rrectional facilities\n\nWalk-through - Section 3\n\nHillary Chutter-Ame
 s\, Legislative Counsel\, Office of Legislative Counsel - Room 34
END:VALARM
END:VCALENDAR
