BEGIN:VCALENDAR
CALSCALE:GREGORIAN
PRODID:-//Ben Fortuna//iCal4j 1.0//EN
VERSION:2.0
BEGIN:VEVENT
DTSTAMP:20260121T220011Z
DTSTART:20260122T150100
DTEND:20260122T170100
SUMMARY:Governor’s Proposed FY2027 Budget\n\nIndividual member and group 
 budget work time\n\n" - Room 46
TZID:America/New_York
UID:20260121T220050Z-uidGen@richgoldman-357e73
END:VEVENT
BEGIN:VALARM
TRIGGER:-PT15M
ACTION:DISPLAY
DESCRIPTION:Governor’s Proposed FY2027 Budget\n\nIndividual member and gr
 oup budget work time\n\n" - Room 46
END:VALARM
END:VCALENDAR
