BEGIN:VCALENDAR
CALSCALE:GREGORIAN
PRODID:-//Ben Fortuna//iCal4j 1.0//EN
VERSION:2.0
BEGIN:VEVENT
DTSTAMP:20260121T160011Z
DTSTART:20260122T150100
DTEND:20260122T170100
SUMMARY:TBD - Room 30
TZID:America/New_York
UID:20260121T160145Z-uidGen@richgoldman-357e73
END:VEVENT
BEGIN:VALARM
TRIGGER:-PT15M
ACTION:DISPLAY
DESCRIPTION:TBD - Room 30
END:VALARM
END:VCALENDAR
