BEGIN:VCALENDAR
CALSCALE:GREGORIAN
PRODID:-//Ben Fortuna//iCal4j 1.0//EN
VERSION:2.0
BEGIN:VEVENT
DTSTAMP:20260121T170010Z
DTSTART:20260122T153000
DTEND:20260122T173000
SUMMARY:School District Mapping\n\nDr. Elaine Collins\, Ed.D.\, Superinte
 ndent\, North Country Supervisory Union\n\nJennifer Lawcewicz\, Superint
 endent\, Essex North Supervisory Union - Invited\n\nWilmer Chavarria\, S
 uperintendent\, Winooski School District - Invited - Room 28
TZID:America/New_York
UID:20260121T170047Z-uidGen@richgoldman-357e73
END:VEVENT
BEGIN:VALARM
TRIGGER:-PT15M
ACTION:DISPLAY
DESCRIPTION:School District Mapping\n\nDr. Elaine Collins\, Ed.D.\, Super
 intendent\, North Country Supervisory Union\n\nJennifer Lawcewicz\, Supe
 rintendent\, Essex North Supervisory Union - Invited\n\nWilmer Chavarria
 \, Superintendent\, Winooski School District - Invited - Room 28
END:VALARM
END:VCALENDAR
