BEGIN:VCALENDAR
CALSCALE:GREGORIAN
PRODID:-//Ben Fortuna//iCal4j 1.0//EN
VERSION:2.0
BEGIN:VEVENT
DTSTAMP:20260121T230011Z
DTSTART:20260122T153000
DTEND:20260122T173000
SUMMARY:School District Mapping\n\nMeeting location update: Room 11\n\nRe
 sponse to Agency of Education mapping update\n\nDr. Elaine Collins\, Ed.
 D.\, Superintendent\, North Country Supervisory Union\n\nJennifer Lawcew
 icz\, Superintendent\, Essex North Supervisory Union - Invited - Room 28
 
TZID:America/New_York
UID:20260121T230025Z-uidGen@richgoldman-357e73
END:VEVENT
BEGIN:VALARM
TRIGGER:-PT15M
ACTION:DISPLAY
DESCRIPTION:School District Mapping\n\nMeeting location update: Room 11\n
 \nResponse to Agency of Education mapping update\n\nDr. Elaine Collins\,
  Ed.D.\, Superintendent\, North Country Supervisory Union\n\nJennifer La
 wcewicz\, Superintendent\, Essex North Supervisory Union - Invited - Roo
 m 28
END:VALARM
END:VCALENDAR
