BEGIN:VCALENDAR
CALSCALE:GREGORIAN
PRODID:-//Ben Fortuna//iCal4j 1.0//EN
VERSION:2.0
BEGIN:VEVENT
DTSTAMP:20260122T230010Z
DTSTART:20260122T154000
DTEND:20260122T174000
SUMMARY:School District Mapping\n\nResponse to Agency of Education mappin
 g update\n\nDr. Elaine Collins\, Ed.D.\, Superintendent\, North Country 
 Supervisory Union - Room 28
TZID:America/New_York
UID:20260122T230011Z-uidGen@richgoldman-357e73
END:VEVENT
BEGIN:VALARM
TRIGGER:-PT15M
ACTION:DISPLAY
DESCRIPTION:School District Mapping\n\nResponse to Agency of Education ma
 pping update\n\nDr. Elaine Collins\, Ed.D.\, Superintendent\, North Coun
 try Supervisory Union - Room 28
END:VALARM
END:VCALENDAR
