BEGIN:VCALENDAR
CALSCALE:GREGORIAN
PRODID:-//Ben Fortuna//iCal4j 1.0//EN
VERSION:2.0
BEGIN:VEVENT
DTSTAMP:20260122T230010Z
DTSTART:20260122T160000
DTEND:20260122T180000
SUMMARY:Transportation FY27 Budget\n\nJoint Fiscal Discussion\n\nLogan Mo
 oberry\, Fiscal Analyst\, Joint Fiscal Office\n\nChris Rupe\, Associate 
 Fiscal Officer\, Joint Fiscal Office\n\n" - Room 43
TZID:America/New_York
UID:20260122T230013Z-uidGen@richgoldman-357e73
END:VEVENT
BEGIN:VALARM
TRIGGER:-PT15M
ACTION:DISPLAY
DESCRIPTION:Transportation FY27 Budget\n\nJoint Fiscal Discussion\n\nLoga
 n Mooberry\, Fiscal Analyst\, Joint Fiscal Office\n\nChris Rupe\, Associ
 ate Fiscal Officer\, Joint Fiscal Office\n\n" - Room 43
END:VALARM
END:VCALENDAR
