BEGIN:VCALENDAR
CALSCALE:GREGORIAN
PRODID:-//Ben Fortuna//iCal4j 1.0//EN
VERSION:2.0
BEGIN:VEVENT
DTSTAMP:20260121T220011Z
DTSTART:20260122T153000
DTEND:20260122T173000
SUMMARY:Boards of Cooperative Education\n\nUpdate\n\nJill Graham\, Execut
 ive Director\, Vermont Learning Collaborative - Invited\n\nSherry Sousa\
 , Superintendent\, Mountain Views Supervisory Union - Invited\n\n" - Roo
 m M103
TZID:America/New_York
UID:20260121T220054Z-uidGen@richgoldman-357e73
END:VEVENT
BEGIN:VALARM
TRIGGER:-PT15M
ACTION:DISPLAY
DESCRIPTION:Boards of Cooperative Education\n\nUpdate\n\nJill Graham\, Ex
 ecutive Director\, Vermont Learning Collaborative - Invited\n\nSherry So
 usa\, Superintendent\, Mountain Views Supervisory Union - Invited\n\n" -
  Room M103
END:VALARM
END:VCALENDAR
