BEGIN:VCALENDAR
CALSCALE:GREGORIAN
PRODID:-//Ben Fortuna//iCal4j 1.0//EN
VERSION:2.0
BEGIN:VEVENT
DTSTAMP:20260123T160011Z
DTSTART:20260123T090000
DTEND:20260123T110000
SUMMARY:Vermont Citizen's Advisory Committee on Lake Champlain's Future\n
 \nKarina Dailey\, Chair\, Vermont Citizens Advisory Committee\n\nBreck B
 owden\, Member\, Vermont Citizens Advisory Committee - Zoom\n\nBob Fisch
 er\, Water Facility Operator\, Vermont Citizens Advisory Committee\n\nLo
 ri Fisher\, Member\, Vermont Citizens Advisory Committee - Zoom\n\nAndre
 w Milliken\, Member\, Vermont Citizens Advisory Committee - Zoom\n\nMary
  Perchlik\, Member\, Vermont Citizens Advisory Committee - Zoom - Room 3
 
TZID:America/New_York
UID:20260123T160014Z-uidGen@richgoldman-357e73
END:VEVENT
BEGIN:VALARM
TRIGGER:-PT15M
ACTION:DISPLAY
DESCRIPTION:Vermont Citizen's Advisory Committee on Lake Champlain's Futu
 re\n\nKarina Dailey\, Chair\, Vermont Citizens Advisory Committee\n\nBre
 ck Bowden\, Member\, Vermont Citizens Advisory Committee - Zoom\n\nBob F
 ischer\, Water Facility Operator\, Vermont Citizens Advisory Committee\n
 \nLori Fisher\, Member\, Vermont Citizens Advisory Committee - Zoom\n\nA
 ndrew Milliken\, Member\, Vermont Citizens Advisory Committee - Zoom\n\n
 Mary Perchlik\, Member\, Vermont Citizens Advisory Committee - Zoom - Ro
 om 3
END:VALARM
END:VCALENDAR
