BEGIN:VCALENDAR
CALSCALE:GREGORIAN
PRODID:-//Ben Fortuna//iCal4j 1.0//EN
VERSION:2.0
BEGIN:VEVENT
DTSTAMP:20260123T150011Z
DTSTART:20260123T090000
DTEND:20260123T110000
SUMMARY:H. 643 - An act relating to purchase and use tax revenue\n\nRep. 
 Chris Keyser\, Sponsor of the bill - Room 45
TZID:America/New_York
UID:20260123T150011Z-uidGen@richgoldman-357e73
END:VEVENT
BEGIN:VALARM
TRIGGER:-PT15M
ACTION:DISPLAY
DESCRIPTION:H. 643 - An act relating to purchase and use tax revenue\n\nR
 ep. Chris Keyser\, Sponsor of the bill - Room 45
END:VALARM
END:VCALENDAR
