BEGIN:VCALENDAR
CALSCALE:GREGORIAN
PRODID:-//Ben Fortuna//iCal4j 1.0//EN
VERSION:2.0
BEGIN:VEVENT
DTSTAMP:20260120T160010Z
DTSTART:20260123T090000
DTEND:20260123T110000
SUMMARY:Farmers Watershed Alliance\n\nScott Magnan\, Board Chair\, Farmer
 s Watershed Alliance - Room 28
TZID:America/New_York
UID:20260120T160110Z-uidGen@richgoldman-357e73
END:VEVENT
BEGIN:VALARM
TRIGGER:-PT15M
ACTION:DISPLAY
DESCRIPTION:Farmers Watershed Alliance\n\nScott Magnan\, Board Chair\, Fa
 rmers Watershed Alliance - Room 28
END:VALARM
END:VCALENDAR
