BEGIN:VCALENDAR
CALSCALE:GREGORIAN
PRODID:-//Ben Fortuna//iCal4j 1.0//EN
VERSION:2.0
BEGIN:VEVENT
DTSTAMP:20260122T180011Z
DTSTART:20260123T090000
DTEND:20260123T110000
SUMMARY:FY26 Budget Adjustment Act\n\nUpdates to FY26 Governor's recommen
 ded BAA\n\nAdam Greshin\, Commissioner\, Department of Finance and Manag
 ement - Room 9
TZID:America/New_York
UID:20260122T180028Z-uidGen@richgoldman-357e73
END:VEVENT
BEGIN:VALARM
TRIGGER:-PT15M
ACTION:DISPLAY
DESCRIPTION:FY26 Budget Adjustment Act\n\nUpdates to FY26 Governor's reco
 mmended BAA\n\nAdam Greshin\, Commissioner\, Department of Finance and M
 anagement - Room 9
END:VALARM
END:VCALENDAR
