BEGIN:VCALENDAR
CALSCALE:GREGORIAN
PRODID:-//Ben Fortuna//iCal4j 1.0//EN
VERSION:2.0
BEGIN:VEVENT
DTSTAMP:20260123T160011Z
DTSTART:20260123T093000
DTEND:20260123T113000
SUMMARY:Agency of Transportation Updates\n\nMaintenance Update\n\nErnie P
 atnoe\, Director\, Maintenance Division\, Agency of Transportation - Zoo
 m - Room 3
TZID:America/New_York
UID:20260123T160018Z-uidGen@richgoldman-357e73
END:VEVENT
BEGIN:VALARM
TRIGGER:-PT15M
ACTION:DISPLAY
DESCRIPTION:Agency of Transportation Updates\n\nMaintenance Update\n\nErn
 ie Patnoe\, Director\, Maintenance Division\, Agency of Transportation -
  Zoom - Room 3
END:VALARM
END:VCALENDAR
