BEGIN:VCALENDAR
CALSCALE:GREGORIAN
PRODID:-//Ben Fortuna//iCal4j 1.0//EN
VERSION:2.0
BEGIN:VEVENT
DTSTAMP:20260123T150028Z
DTSTART:20260123T091500
DTEND:20260123T111500
SUMMARY:H. 487 - An act relating to local option tax revenue sharing betw
 een a town and village\n\nRep. Matt Walker\, Sponsor of the bill - Room 
 45
TZID:America/New_York
UID:20260123T150032Z-uidGen@richgoldman-357e73
END:VEVENT
BEGIN:VALARM
TRIGGER:-PT15M
ACTION:DISPLAY
DESCRIPTION:H. 487 - An act relating to local option tax revenue sharing 
 between a town and village\n\nRep. Matt Walker\, Sponsor of the bill - R
 oom 45
END:VALARM
END:VCALENDAR
