BEGIN:VCALENDAR
CALSCALE:GREGORIAN
PRODID:-//Ben Fortuna//iCal4j 1.0//EN
VERSION:2.0
BEGIN:VEVENT
DTSTAMP:20260121T150010Z
DTSTART:20260123T090000
DTEND:20260123T110000
SUMMARY:Health Care Overview\n\nGlobal Commitment\n\nNolan Langweil\, Pri
 ncipal Fiscal Analyst\, Joint Fiscal Office\n\nAshley Berliner\, Directo
 r of Medicaid Policy\, Agency of Human Services - Room 17
TZID:America/New_York
UID:20260121T150137Z-uidGen@richgoldman-357e73
END:VEVENT
BEGIN:VALARM
TRIGGER:-PT15M
ACTION:DISPLAY
DESCRIPTION:Health Care Overview\n\nGlobal Commitment\n\nNolan Langweil\,
  Principal Fiscal Analyst\, Joint Fiscal Office\n\nAshley Berliner\, Dir
 ector of Medicaid Policy\, Agency of Human Services - Room 17
END:VALARM
END:VCALENDAR
