BEGIN:VCALENDAR
CALSCALE:GREGORIAN
PRODID:-//Ben Fortuna//iCal4j 1.0//EN
VERSION:2.0
BEGIN:VEVENT
DTSTAMP:20260122T130011Z
DTSTART:20260123T090000
DTEND:20260123T110000
SUMMARY:S. 170 - An act relating to net metering rates\n\nLouis Porter\, 
 General Manager\, Washington Electric Cooperative\, Inc.\n\nKen Nolan\, 
 General Manager\, Vermont Public Power Supply Authority\n\nJake Marren\,
  Staff Attorney\, Vermont Public Utility Commission\n\nAndrea Cohen\, Ma
 nager\, Government Affairs and Member Relations\, Vermont Electric Coope
 rative\, Inc. - Room 8
TZID:America/New_York
UID:20260122T130016Z-uidGen@richgoldman-357e73
END:VEVENT
BEGIN:VALARM
TRIGGER:-PT15M
ACTION:DISPLAY
DESCRIPTION:S. 170 - An act relating to net metering rates\n\nLouis Porte
 r\, General Manager\, Washington Electric Cooperative\, Inc.\n\nKen Nola
 n\, General Manager\, Vermont Public Power Supply Authority\n\nJake Marr
 en\, Staff Attorney\, Vermont Public Utility Commission\n\nAndrea Cohen\
 , Manager\, Government Affairs and Member Relations\, Vermont Electric C
 ooperative\, Inc. - Room 8
END:VALARM
END:VCALENDAR
