BEGIN:VCALENDAR
CALSCALE:GREGORIAN
PRODID:-//Ben Fortuna//iCal4j 1.0//EN
VERSION:2.0
BEGIN:VEVENT
DTSTAMP:20260123T160011Z
DTSTART:20260123T090000
DTEND:20260123T110000
SUMMARY:Housing\n\nUpdate\n\nMaura Collins\, Executive Director\, Vermont
  Housing Finance Agency\n\nDeb Flannery\, Management Director\, Vermont 
 Housing Finance Agency - Room 27
TZID:America/New_York
UID:20260123T160011Z-uidGen@richgoldman-357e73
END:VEVENT
BEGIN:VALARM
TRIGGER:-PT15M
ACTION:DISPLAY
DESCRIPTION:Housing\n\nUpdate\n\nMaura Collins\, Executive Director\, Ver
 mont Housing Finance Agency\n\nDeb Flannery\, Management Director\, Verm
 ont Housing Finance Agency - Room 27
END:VALARM
END:VCALENDAR
