BEGIN:VCALENDAR
CALSCALE:GREGORIAN
PRODID:-//Ben Fortuna//iCal4j 1.0//EN
VERSION:2.0
BEGIN:VEVENT
DTSTAMP:20260120T000010Z
DTSTART:20260123T090000
DTEND:20260123T110000
SUMMARY:Supreme Court Justice Confirmation\n\nWitness Testimony\n\nOwen F
 oster\, J.D.\, Chair\, Green Mountain Care Board\n\nNikolas Kerest\, For
 mer U.S. Attorney for the District of Vermont\n\nTristram Coffin\, Forme
 r U.S. Attorney for the District of Vermont - Room 1
TZID:America/New_York
UID:20260120T000051Z-uidGen@richgoldman-357e73
END:VEVENT
BEGIN:VALARM
TRIGGER:-PT15M
ACTION:DISPLAY
DESCRIPTION:Supreme Court Justice Confirmation\n\nWitness Testimony\n\nOw
 en Foster\, J.D.\, Chair\, Green Mountain Care Board\n\nNikolas Kerest\,
  Former U.S. Attorney for the District of Vermont\n\nTristram Coffin\, F
 ormer U.S. Attorney for the District of Vermont - Room 1
END:VALARM
END:VCALENDAR
