BEGIN:VCALENDAR
CALSCALE:GREGORIAN
PRODID:-//Ben Fortuna//iCal4j 1.0//EN
VERSION:2.0
BEGIN:VEVENT
DTSTAMP:20260120T190010Z
DTSTART:20260123T090000
DTEND:20260123T110000
SUMMARY:Supreme Court Justice Confirmation Hearing\n\nWitness Testimony\n
 \nOwen Foster\, J.D.\, Chair\, Green Mountain Care Board\n\nNikolas Kere
 st\, Former U.S. Attorney for the District of Vermont\n\nTristram Coffin
 \, Former U.S. Attorney for the District of Vermont\n\nMichael Drescher\
 , Vermont Supreme Court Nominee - Room 1
TZID:America/New_York
UID:20260120T190229Z-uidGen@richgoldman-357e73
END:VEVENT
BEGIN:VALARM
TRIGGER:-PT15M
ACTION:DISPLAY
DESCRIPTION:Supreme Court Justice Confirmation Hearing\n\nWitness Testimo
 ny\n\nOwen Foster\, J.D.\, Chair\, Green Mountain Care Board\n\nNikolas 
 Kerest\, Former U.S. Attorney for the District of Vermont\n\nTristram Co
 ffin\, Former U.S. Attorney for the District of Vermont\n\nMichael Dresc
 her\, Vermont Supreme Court Nominee - Room 1
END:VALARM
END:VCALENDAR
