BEGIN:VCALENDAR
CALSCALE:GREGORIAN
PRODID:-//Ben Fortuna//iCal4j 1.0//EN
VERSION:2.0
BEGIN:VEVENT
DTSTAMP:20260122T160010Z
DTSTART:20260123T090000
DTEND:20260123T110000
SUMMARY:H. 698 - An act relating to various changes to 2025 Acts and Reso
 lves No. 73\n\nIntroduction and walk-through\n\nRep. Martha Feltus\, Rep
 resentative\, Sponsor\n\nBeth St. James\, Legislative Counsel\, Office o
 f Legislative Counsel\n\nJon Gray\, Legislative Counsel\, Office of Legi
 slative Counsel - Room M103
TZID:America/New_York
UID:20260122T160140Z-uidGen@richgoldman-357e73
END:VEVENT
BEGIN:VALARM
TRIGGER:-PT15M
ACTION:DISPLAY
DESCRIPTION:H. 698 - An act relating to various changes to 2025 Acts and 
 Resolves No. 73\n\nIntroduction and walk-through\n\nRep. Martha Feltus\,
  Representative\, Sponsor\n\nBeth St. James\, Legislative Counsel\, Offi
 ce of Legislative Counsel\n\nJon Gray\, Legislative Counsel\, Office of 
 Legislative Counsel - Room M103
END:VALARM
END:VCALENDAR
