BEGIN:VCALENDAR
CALSCALE:GREGORIAN
PRODID:-//Ben Fortuna//iCal4j 1.0//EN
VERSION:2.0
BEGIN:VEVENT
DTSTAMP:20260123T160011Z
DTSTART:20260123T090500
DTEND:20260123T110500
SUMMARY:Supreme Court Justice Confirmation Hearing\n\nWitness Testimony\n
 \nJoseph Perella\, Retired Assistant U.S. Attorney for the District of V
 ermont\n\nOwen Foster\, J.D.\, Chair\, Green Mountain Care Board\n\nNiko
 las Kerest\, Former U.S. Attorney for the District of Vermont\n\nTristra
 m Coffin\, Former U.S. Attorney for the District of Vermont - Room 1
TZID:America/New_York
UID:20260123T160015Z-uidGen@richgoldman-357e73
END:VEVENT
BEGIN:VALARM
TRIGGER:-PT15M
ACTION:DISPLAY
DESCRIPTION:Supreme Court Justice Confirmation Hearing\n\nWitness Testimo
 ny\n\nJoseph Perella\, Retired Assistant U.S. Attorney for the District 
 of Vermont\n\nOwen Foster\, J.D.\, Chair\, Green Mountain Care Board\n\n
 Nikolas Kerest\, Former U.S. Attorney for the District of Vermont\n\nTri
 stram Coffin\, Former U.S. Attorney for the District of Vermont - Room 1
 
END:VALARM
END:VCALENDAR
