BEGIN:VCALENDAR
CALSCALE:GREGORIAN
PRODID:-//Ben Fortuna//iCal4j 1.0//EN
VERSION:2.0
BEGIN:VEVENT
DTSTAMP:20260123T160011Z
DTSTART:20260123T093100
DTEND:20260123T113100
SUMMARY:Committee Discussion\n\nContinued Discussion on Committee Liaison
  Reports - Room 35
TZID:America/New_York
UID:20260123T160019Z-uidGen@richgoldman-357e73
END:VEVENT
BEGIN:VALARM
TRIGGER:-PT15M
ACTION:DISPLAY
DESCRIPTION:Committee Discussion\n\nContinued Discussion on Committee Lia
 ison Reports - Room 35
END:VALARM
END:VCALENDAR
