BEGIN:VCALENDAR
CALSCALE:GREGORIAN
PRODID:-//Ben Fortuna//iCal4j 1.0//EN
VERSION:2.0
BEGIN:VEVENT
DTSTAMP:20260122T160010Z
DTSTART:20260123T093100
DTEND:20260123T113100
SUMMARY:Reports Repeal Survey\n\nCommittee Discussion - Room 49
TZID:America/New_York
UID:20260122T160143Z-uidGen@richgoldman-357e73
END:VEVENT
BEGIN:VALARM
TRIGGER:-PT15M
ACTION:DISPLAY
DESCRIPTION:Reports Repeal Survey\n\nCommittee Discussion - Room 49
END:VALARM
END:VCALENDAR
