BEGIN:VCALENDAR
CALSCALE:GREGORIAN
PRODID:-//Ben Fortuna//iCal4j 1.0//EN
VERSION:2.0
BEGIN:VEVENT
DTSTAMP:20260120T220010Z
DTSTART:20260123T093100
DTEND:20260123T113100
SUMMARY:TBD\n\nH. 532 - An act relating to mandatory retirement of colleg
 e professors - Room 31
TZID:America/New_York
UID:20260120T220113Z-uidGen@richgoldman-357e73
END:VEVENT
BEGIN:VALARM
TRIGGER:-PT15M
ACTION:DISPLAY
DESCRIPTION:TBD\n\nH. 532 - An act relating to mandatory retirement of co
 llege professors - Room 31
END:VALARM
END:VCALENDAR
