BEGIN:VCALENDAR
CALSCALE:GREGORIAN
PRODID:-//Ben Fortuna//iCal4j 1.0//EN
VERSION:2.0
BEGIN:VEVENT
DTSTAMP:20260121T150010Z
DTSTART:20260123T093100
DTEND:20260123T113100
SUMMARY:Pretrial Supervision\n\nAssessment\n\nEllen Whelan-Wuest\, Deputy
  Division Director\, State Impacts\, Council of State Governments Justic
 e Center\n\nDavid D'Amora\, Senior Policy Advisor\, Council of State Gov
 ernments Justice Center - Room 34
TZID:America/New_York
UID:20260121T150140Z-uidGen@richgoldman-357e73
END:VEVENT
BEGIN:VALARM
TRIGGER:-PT15M
ACTION:DISPLAY
DESCRIPTION:Pretrial Supervision\n\nAssessment\n\nEllen Whelan-Wuest\, De
 puty Division Director\, State Impacts\, Council of State Governments Ju
 stice Center\n\nDavid D'Amora\, Senior Policy Advisor\, Council of State
  Governments Justice Center - Room 34
END:VALARM
END:VCALENDAR
