BEGIN:VCALENDAR
CALSCALE:GREGORIAN
PRODID:-//Ben Fortuna//iCal4j 1.0//EN
VERSION:2.0
BEGIN:VEVENT
DTSTAMP:20260122T160010Z
DTSTART:20260123T094500
DTEND:20260123T114500
SUMMARY:FY26 Budget Adjustment Act\n\nChild care language\n\nAndrew Stein
 \, Chief Operating Officer\, Department of Taxes\n\nEmily Byrne\, Deputy
  Fiscal Officer\, Joint Fiscal Office - Room 9
TZID:America/New_York
UID:20260122T160144Z-uidGen@richgoldman-357e73
END:VEVENT
BEGIN:VALARM
TRIGGER:-PT15M
ACTION:DISPLAY
DESCRIPTION:FY26 Budget Adjustment Act\n\nChild care language\n\nAndrew S
 tein\, Chief Operating Officer\, Department of Taxes\n\nEmily Byrne\, De
 puty Fiscal Officer\, Joint Fiscal Office - Room 9
END:VALARM
END:VCALENDAR
