BEGIN:VCALENDAR
CALSCALE:GREGORIAN
PRODID:-//Ben Fortuna//iCal4j 1.0//EN
VERSION:2.0
BEGIN:VEVENT
DTSTAMP:20260120T130026Z
DTSTART:20260123T093000
DTEND:20260123T113000
SUMMARY:S. 224 - An act relating to the management of the State’s lakes\n
 \nPat Suozzi\, President\, Federation of Vermont Lakes and Ponds - Room 
 8
TZID:America/New_York
UID:20260120T130041Z-uidGen@richgoldman-357e73
END:VEVENT
BEGIN:VALARM
TRIGGER:-PT15M
ACTION:DISPLAY
DESCRIPTION:S. 224 - An act relating to the management of the State’s lak
 es\n\nPat Suozzi\, President\, Federation of Vermont Lakes and Ponds - R
 oom 8
END:VALARM
END:VCALENDAR
