BEGIN:VCALENDAR
CALSCALE:GREGORIAN
PRODID:-//Ben Fortuna//iCal4j 1.0//EN
VERSION:2.0
BEGIN:VEVENT
DTSTAMP:20260122T170011Z
DTSTART:20260123T093000
DTEND:20260123T113000
SUMMARY:S. 202 - An act relating to portable solar energy generation devi
 ces\n\nReview new draft\, Committee Discussion and Possible Vote\n\nElle
 n Czajkowski\, Legislative Counsel\, Office of Legislative Counsel - Roo
 m 8
TZID:America/New_York
UID:20260122T170043Z-uidGen@richgoldman-357e73
END:VEVENT
BEGIN:VALARM
TRIGGER:-PT15M
ACTION:DISPLAY
DESCRIPTION:S. 202 - An act relating to portable solar energy generation 
 devices\n\nReview new draft\, Committee Discussion and Possible Vote\n\n
 Ellen Czajkowski\, Legislative Counsel\, Office of Legislative Counsel -
  Room 8
END:VALARM
END:VCALENDAR
