BEGIN:VCALENDAR
CALSCALE:GREGORIAN
PRODID:-//Ben Fortuna//iCal4j 1.0//EN
VERSION:2.0
BEGIN:VEVENT
DTSTAMP:20260122T200010Z
DTSTART:20260123T093100
DTEND:20260123T113100
SUMMARY:H. 589 - An act relating to a six-year statute of repose for acti
 ons arising out of improvements to real property\n\nWitness Testimony\n\
 nTim Frost\, Retired\, Peregrine Design Build\n\nMatt Bushey\, Managing 
 Principal\, TruexCullins\n\nMichael Goodrich\, Owner\, Michael Goodrich 
 Custom Builder LLC - Zoom - Room 30
TZID:America/New_York
UID:20260122T200112Z-uidGen@richgoldman-357e73
END:VEVENT
BEGIN:VALARM
TRIGGER:-PT15M
ACTION:DISPLAY
DESCRIPTION:H. 589 - An act relating to a six-year statute of repose for 
 actions arising out of improvements to real property\n\nWitness Testimon
 y\n\nTim Frost\, Retired\, Peregrine Design Build\n\nMatt Bushey\, Manag
 ing Principal\, TruexCullins\n\nMichael Goodrich\, Owner\, Michael Goodr
 ich Custom Builder LLC - Zoom - Room 30
END:VALARM
END:VCALENDAR
