BEGIN:VCALENDAR
CALSCALE:GREGORIAN
PRODID:-//Ben Fortuna//iCal4j 1.0//EN
VERSION:2.0
BEGIN:VEVENT
DTSTAMP:20260120T150010Z
DTSTART:20260123T103000
DTEND:20260123T123000
SUMMARY:Extending the Energy Efficiency Modernization Act\n\nRenewal of t
 he Energy Efficiency Modernization Act and Fiscal Update\n\nDarren Sprin
 ger\, General Manager\, Burlington Electric Department - Room 32
TZID:America/New_York
UID:20260120T150129Z-uidGen@richgoldman-357e73
END:VEVENT
BEGIN:VALARM
TRIGGER:-PT15M
ACTION:DISPLAY
DESCRIPTION:Extending the Energy Efficiency Modernization Act\n\nRenewal 
 of the Energy Efficiency Modernization Act and Fiscal Update\n\nDarren S
 pringer\, General Manager\, Burlington Electric Department - Room 32
END:VALARM
END:VCALENDAR
