BEGIN:VCALENDAR
CALSCALE:GREGORIAN
PRODID:-//Ben Fortuna//iCal4j 1.0//EN
VERSION:2.0
BEGIN:VEVENT
DTSTAMP:20260122T180011Z
DTSTART:20260123T100000
DTEND:20260123T120000
SUMMARY:Connecticut River Watershed Farmers Alliance\n\nMike Snow\, Execu
 tive Director\, Connecticut River Watershed Farmers Alliance\, Post Mill
 s Eggs and Grain\n\nPaul Doton\, Dairy Farmer and Board Chair\, Connecti
 cut River Watershed Farmers Alliance\n\nWalter Gladstone\, Newmont Farm\
 , Vermont Dairy Producers Alliance\n\nHoward Prussak\, High Meadows Farm
 \n\nTim Taylor\, Crossroad Farm - Room 28
TZID:America/New_York
UID:20260122T180031Z-uidGen@richgoldman-357e73
END:VEVENT
BEGIN:VALARM
TRIGGER:-PT15M
ACTION:DISPLAY
DESCRIPTION:Connecticut River Watershed Farmers Alliance\n\nMike Snow\, E
 xecutive Director\, Connecticut River Watershed Farmers Alliance\, Post 
 Mills Eggs and Grain\n\nPaul Doton\, Dairy Farmer and Board Chair\, Conn
 ecticut River Watershed Farmers Alliance\n\nWalter Gladstone\, Newmont F
 arm\, Vermont Dairy Producers Alliance\n\nHoward Prussak\, High Meadows 
 Farm\n\nTim Taylor\, Crossroad Farm - Room 28
END:VALARM
END:VCALENDAR
