BEGIN:VCALENDAR
CALSCALE:GREGORIAN
PRODID:-//Ben Fortuna//iCal4j 1.0//EN
VERSION:2.0
BEGIN:VEVENT
DTSTAMP:20260123T170011Z
DTSTART:20260123T100000
DTEND:20260123T120000
SUMMARY:Connecticut River Watershed Farmers Alliance\n\nElizabeth Kennett
 \, Owner\, Liberty Hill Farm\n\nPaul Doton\, Dairy Farmer and Board Chai
 r\, Connecticut River Watershed Farmers Alliance\n\nHoward Prussak\, Hig
 h Meadows Farm\n\nTim Taylor\, Crossroad Farm\n\nWalter Gladstone\, Newm
 ont Farm\, Vermont Dairy Producers Alliance\n\nBill Emmons\, Cloudland F
 arm\n\nMike Snow\, Executive Director\, Connecticut River Watershed Farm
 ers Alliance\, Post Mills Eggs and Grain - Room 28
TZID:America/New_York
UID:20260123T170014Z-uidGen@richgoldman-357e73
END:VEVENT
BEGIN:VALARM
TRIGGER:-PT15M
ACTION:DISPLAY
DESCRIPTION:Connecticut River Watershed Farmers Alliance\n\nElizabeth Ken
 nett\, Owner\, Liberty Hill Farm\n\nPaul Doton\, Dairy Farmer and Board 
 Chair\, Connecticut River Watershed Farmers Alliance\n\nHoward Prussak\,
  High Meadows Farm\n\nTim Taylor\, Crossroad Farm\n\nWalter Gladstone\, 
 Newmont Farm\, Vermont Dairy Producers Alliance\n\nBill Emmons\, Cloudla
 nd Farm\n\nMike Snow\, Executive Director\, Connecticut River Watershed 
 Farmers Alliance\, Post Mills Eggs and Grain - Room 28
END:VALARM
END:VCALENDAR
