BEGIN:VCALENDAR
CALSCALE:GREGORIAN
PRODID:-//Ben Fortuna//iCal4j 1.0//EN
VERSION:2.0
BEGIN:VEVENT
DTSTAMP:20260122T200010Z
DTSTART:20260123T101500
DTEND:20260123T121500
SUMMARY:FY27 Budget\n\nAdam Greshin\, Commissioner\, Department of Financ
 e and Management\n\nRebecca Sameroff\, Deputy Commissioner\, Department 
 of Taxes - Room 45
TZID:America/New_York
UID:20260122T200114Z-uidGen@richgoldman-357e73
END:VEVENT
BEGIN:VALARM
TRIGGER:-PT15M
ACTION:DISPLAY
DESCRIPTION:FY27 Budget\n\nAdam Greshin\, Commissioner\, Department of Fi
 nance and Management\n\nRebecca Sameroff\, Deputy Commissioner\, Departm
 ent of Taxes - Room 45
END:VALARM
END:VCALENDAR
