BEGIN:VCALENDAR
CALSCALE:GREGORIAN
PRODID:-//Ben Fortuna//iCal4j 1.0//EN
VERSION:2.0
BEGIN:VEVENT
DTSTAMP:20260123T170011Z
DTSTART:20260123T100000
DTEND:20260123T120000
SUMMARY:Agency of Transportation Updates\n\nReport on Coordination of Hea
 lthcare and Transportation Services. This is a Joint Meeting with Senate
  Transportation. It will be held in Room 11 and will be livestreamed her
 e: https://legislature.vermont.gov/committee/streaming/senate-health-and
 -welfare\n\nRoss MacDonald\, Public Transit Program Manager\, Agency of 
 Transportation\n\nStephen Falbel\, President\, Steadman Hill Consulting\
 , Inc. - Zoom\n\nDan Currier\, Public Transit Coordinator\, Agency of Tr
 ansportation\n\nKaren Vastine\, Sr. Community Relations Officer\, Univer
 sity of Vermont Health Network - Zoom\n\nNatasha Withers\, Medical Direc
 tor of High Value Care\, UVM Health - Zoom\n\nDevon Green\, Senior Vice 
 President of Policy and Strategy\, Vermont Association of Hospitals and 
 Health Systems\n\nCaleb Grant\, Chair\, Vermont Public Transportation As
 sociation\n\nJim Moulton\, Executive Director\, Tri-Valley Transit - Zoo
 m\n\nMike Fisher\, Chief Health Care Advocate\, Vermont Legal Aid - Zoom
 \n\nGrace Johnson\, Policy Analyst\, Medicaid Policy Unit\, Agency of Hu
 man Services - Zoom - Room 17
TZID:America/New_York
UID:20260123T170016Z-uidGen@richgoldman-357e73
END:VEVENT
BEGIN:VALARM
TRIGGER:-PT15M
ACTION:DISPLAY
DESCRIPTION:Agency of Transportation Updates\n\nReport on Coordination of
  Healthcare and Transportation Services. This is a Joint Meeting with Se
 nate Transportation. It will be held in Room 11 and will be livestreamed
  here: https://legislature.vermont.gov/committee/streaming/senate-health
 -and-welfare\n\nRoss MacDonald\, Public Transit Program Manager\, Agency
  of Transportation\n\nStephen Falbel\, President\, Steadman Hill Consult
 ing\, Inc. - Zoom\n\nDan Currier\, Public Transit Coordinator\, Agency o
 f Transportation\n\nKaren Vastine\, Sr. Community Relations Officer\, Un
 iversity of Vermont Health Network - Zoom\n\nNatasha Withers\, Medical D
 irector of High Value Care\, UVM Health - Zoom\n\nDevon Green\, Senior V
 ice President of Policy and Strategy\, Vermont Association of Hospitals 
 and Health Systems\n\nCaleb Grant\, Chair\, Vermont Public Transportatio
 n Association\n\nJim Moulton\, Executive Director\, Tri-Valley Transit -
  Zoom\n\nMike Fisher\, Chief Health Care Advocate\, Vermont Legal Aid - 
 Zoom\n\nGrace Johnson\, Policy Analyst\, Medicaid Policy Unit\, Agency o
 f Human Services - Zoom - Room 17
END:VALARM
END:VCALENDAR
