BEGIN:VCALENDAR
CALSCALE:GREGORIAN
PRODID:-//Ben Fortuna//iCal4j 1.0//EN
VERSION:2.0
BEGIN:VEVENT
DTSTAMP:20260123T160011Z
DTSTART:20260123T101500
DTEND:20260123T121500
SUMMARY:FY26 Budget Adjustment Act\n\nChild care closeout language\n\nAnd
 rew Stein\, Chief Operating Officer\, Department of Taxes\n\nEmily Byrne
 \, Deputy Fiscal Officer\, Joint Fiscal Office - Room 9
TZID:America/New_York
UID:20260123T160038Z-uidGen@richgoldman-357e73
END:VEVENT
BEGIN:VALARM
TRIGGER:-PT15M
ACTION:DISPLAY
DESCRIPTION:FY26 Budget Adjustment Act\n\nChild care closeout language\n\
 nAndrew Stein\, Chief Operating Officer\, Department of Taxes\n\nEmily B
 yrne\, Deputy Fiscal Officer\, Joint Fiscal Office - Room 9
END:VALARM
END:VCALENDAR
