BEGIN:VCALENDAR
CALSCALE:GREGORIAN
PRODID:-//Ben Fortuna//iCal4j 1.0//EN
VERSION:2.0
BEGIN:VEVENT
DTSTAMP:20260120T190010Z
DTSTART:20260123T100000
DTEND:20260123T120000
SUMMARY:H. 588 - An act relating to professions and occupations regulated
  by the Office of Professional Regulation\n\nWitness testimony\n\nAdditi
 onal Witness\n\nWitnesses TBD\, Office of Professional Regulation\n\nTim
  Devlin\, Legislative Counsel\, Office of Legislative Counsel - Room M10
 6
TZID:America/New_York
UID:20260120T190232Z-uidGen@richgoldman-357e73
END:VEVENT
BEGIN:VALARM
TRIGGER:-PT15M
ACTION:DISPLAY
DESCRIPTION:H. 588 - An act relating to professions and occupations regul
 ated by the Office of Professional Regulation\n\nWitness testimony\n\nAd
 ditional Witness\n\nWitnesses TBD\, Office of Professional Regulation\n\
 nTim Devlin\, Legislative Counsel\, Office of Legislative Counsel - Room
  M106
END:VALARM
END:VCALENDAR
