BEGIN:VCALENDAR
CALSCALE:GREGORIAN
PRODID:-//Ben Fortuna//iCal4j 1.0//EN
VERSION:2.0
BEGIN:VEVENT
DTSTAMP:20260123T160011Z
DTSTART:20260123T101000
DTEND:20260123T121000
SUMMARY:Supreme Court Justice Confirmation Hearing\n\nWitness Testimony\n
 \nCharles Martin\, Attorney\, Martin Delaney & Ricci Law Group\n\nMichae
 l Drescher\, Vermont Supreme Court Nominee - Room 1
TZID:America/New_York
UID:20260123T160036Z-uidGen@richgoldman-357e73
END:VEVENT
BEGIN:VALARM
TRIGGER:-PT15M
ACTION:DISPLAY
DESCRIPTION:Supreme Court Justice Confirmation Hearing\n\nWitness Testimo
 ny\n\nCharles Martin\, Attorney\, Martin Delaney & Ricci Law Group\n\nMi
 chael Drescher\, Vermont Supreme Court Nominee - Room 1
END:VALARM
END:VCALENDAR
