BEGIN:VCALENDAR
CALSCALE:GREGORIAN
PRODID:-//Ben Fortuna//iCal4j 1.0//EN
VERSION:2.0
BEGIN:VEVENT
DTSTAMP:20260122T160010Z
DTSTART:20260123T101500
DTEND:20260123T121500
SUMMARY:S. 224 - An act relating to the management of the State’s lakes\n
 \nJim Mitchell\, Citizen\n\nDiane Lehder\, Responsible Wakes for Vermont
  Lakes\n\nBeth Torpey\, Citizen\, Morgan\n\nDavid Wieselmann\, Coordinat
 or\, Lake Seymour\n\nRob Hofmann\, Citizen\, Waterbury - Room 8
TZID:America/New_York
UID:20260122T160147Z-uidGen@richgoldman-357e73
END:VEVENT
BEGIN:VALARM
TRIGGER:-PT15M
ACTION:DISPLAY
DESCRIPTION:S. 224 - An act relating to the management of the State’s lak
 es\n\nJim Mitchell\, Citizen\n\nDiane Lehder\, Responsible Wakes for Ver
 mont Lakes\n\nBeth Torpey\, Citizen\, Morgan\n\nDavid Wieselmann\, Coord
 inator\, Lake Seymour\n\nRob Hofmann\, Citizen\, Waterbury - Room 8
END:VALARM
END:VCALENDAR
