BEGIN:VCALENDAR
CALSCALE:GREGORIAN
PRODID:-//Ben Fortuna//iCal4j 1.0//EN
VERSION:2.0
BEGIN:VEVENT
DTSTAMP:20260120T190010Z
DTSTART:20260123T101500
DTEND:20260123T121500
SUMMARY:TBD\n\nSen. Kesha Ram Hinsdale\, Sponsor\, Sponsor\n\nEllen Czajk
 owski\, Legislative Counsel\, Office of Legislative Counsel\n\nCameron W
 ood\, Legislative Counsel\, Office of Legislative Counsel - Room 27
TZID:America/New_York
UID:20260120T190238Z-uidGen@richgoldman-357e73
END:VEVENT
BEGIN:VALARM
TRIGGER:-PT15M
ACTION:DISPLAY
DESCRIPTION:TBD\n\nSen. Kesha Ram Hinsdale\, Sponsor\, Sponsor\n\nEllen C
 zajkowski\, Legislative Counsel\, Office of Legislative Counsel\n\nCamer
 on Wood\, Legislative Counsel\, Office of Legislative Counsel - Room 27
END:VALARM
END:VCALENDAR
