BEGIN:VCALENDAR
CALSCALE:GREGORIAN
PRODID:-//Ben Fortuna//iCal4j 1.0//EN
VERSION:2.0
BEGIN:VEVENT
DTSTAMP:20260122T000010Z
DTSTART:20260123T101500
DTEND:20260123T121500
SUMMARY:Housing\n\nCommittee Discussion\n\nEllen Czajkowski\, Legislative
  Counsel\, Office of Legislative Counsel\n\nCameron Wood\, Legislative C
 ounsel\, Office of Legislative Counsel - Room 27
TZID:America/New_York
UID:20260122T000017Z-uidGen@richgoldman-357e73
END:VEVENT
BEGIN:VALARM
TRIGGER:-PT15M
ACTION:DISPLAY
DESCRIPTION:Housing\n\nCommittee Discussion\n\nEllen Czajkowski\, Legisla
 tive Counsel\, Office of Legislative Counsel\n\nCameron Wood\, Legislati
 ve Counsel\, Office of Legislative Counsel - Room 27
END:VALARM
END:VCALENDAR
