BEGIN:VCALENDAR
CALSCALE:GREGORIAN
PRODID:-//Ben Fortuna//iCal4j 1.0//EN
VERSION:2.0
BEGIN:VEVENT
DTSTAMP:20260123T170011Z
DTSTART:20260123T101500
DTEND:20260123T121500
SUMMARY:Housing\n\nCommittee Discussion\n\nCameron Wood\, Legislative Cou
 nsel\, Office of Legislative Counsel\n\nEllen Czajkowski\, Legislative C
 ounsel\, Office of Legislative Counsel\n\nMegan Sullivan\, Vice Presiden
 t of Government Affairs\, Vermont Chamber of Commerce - Room 27
TZID:America/New_York
UID:20260123T170020Z-uidGen@richgoldman-357e73
END:VEVENT
BEGIN:VALARM
TRIGGER:-PT15M
ACTION:DISPLAY
DESCRIPTION:Housing\n\nCommittee Discussion\n\nCameron Wood\, Legislative
  Counsel\, Office of Legislative Counsel\n\nEllen Czajkowski\, Legislati
 ve Counsel\, Office of Legislative Counsel\n\nMegan Sullivan\, Vice Pres
 ident of Government Affairs\, Vermont Chamber of Commerce - Room 27
END:VALARM
END:VCALENDAR
