BEGIN:VCALENDAR
CALSCALE:GREGORIAN
PRODID:-//Ben Fortuna//iCal4j 1.0//EN
VERSION:2.0
BEGIN:VEVENT
DTSTAMP:20260123T150028Z
DTSTART:20260123T101500
DTEND:20260123T121500
SUMMARY:H. 588 - An act relating to professions and occupations regulated
  by the Office of Professional Regulation\n\nWitness testimony\n\nPatric
 k Gallivan\, Executive Director\, Vermont State Dental Society - Zoom\n\
 nLauren Hibbert\, Deputy Secretary of State\, Secretary of State's Offic
 e\n\nJennifer Colin\, Director\, Office of Professional Regulation\n\nKr
 is Bowdish\, Deputy Chief Investigator\, Office of Professional Regulati
 on\, Secretary of State's Office\n\nKatherine Bramhall\, Owner\, Gentle 
 Landing Birth Center\n\nCarrie Phillips\, Pharmacy Executive\, Board of 
 Pharmacy\, Office of Professional Regulation\n\nDerek Everett\, Chief In
 spector\, Office of Professional Regulation\, Secretary of State's Offic
 e\n\nJessica Schifano\, Policy Director\, Department of Health - Room M1
 06
TZID:America/New_York
UID:20260123T150036Z-uidGen@richgoldman-357e73
END:VEVENT
BEGIN:VALARM
TRIGGER:-PT15M
ACTION:DISPLAY
DESCRIPTION:H. 588 - An act relating to professions and occupations regul
 ated by the Office of Professional Regulation\n\nWitness testimony\n\nPa
 trick Gallivan\, Executive Director\, Vermont State Dental Society - Zoo
 m\n\nLauren Hibbert\, Deputy Secretary of State\, Secretary of State's O
 ffice\n\nJennifer Colin\, Director\, Office of Professional Regulation\n
 \nKris Bowdish\, Deputy Chief Investigator\, Office of Professional Regu
 lation\, Secretary of State's Office\n\nKatherine Bramhall\, Owner\, Gen
 tle Landing Birth Center\n\nCarrie Phillips\, Pharmacy Executive\, Board
  of Pharmacy\, Office of Professional Regulation\n\nDerek Everett\, Chie
 f Inspector\, Office of Professional Regulation\, Secretary of State's O
 ffice\n\nJessica Schifano\, Policy Director\, Department of Health - Roo
 m M106
END:VALARM
END:VCALENDAR
