BEGIN:VCALENDAR
CALSCALE:GREGORIAN
PRODID:-//Ben Fortuna//iCal4j 1.0//EN
VERSION:2.0
BEGIN:VEVENT
DTSTAMP:20260123T170011Z
DTSTART:20260123T103000
DTEND:20260123T123000
SUMMARY:H. 270 - An act relating to confidentiality for peer support coun
 seling among emergency service providers\n\nMarkup and possible vote\n\n
 Katie McLinn\, Legislative Counsel\, Office of Legislative Counsel - Roo
 m 42
TZID:America/New_York
UID:20260123T170024Z-uidGen@richgoldman-357e73
END:VEVENT
BEGIN:VALARM
TRIGGER:-PT15M
ACTION:DISPLAY
DESCRIPTION:H. 270 - An act relating to confidentiality for peer support 
 counseling among emergency service providers\n\nMarkup and possible vote
 \n\nKatie McLinn\, Legislative Counsel\, Office of Legislative Counsel -
  Room 42
END:VALARM
END:VCALENDAR
