BEGIN:VCALENDAR
CALSCALE:GREGORIAN
PRODID:-//Ben Fortuna//iCal4j 1.0//EN
VERSION:2.0
BEGIN:VEVENT
DTSTAMP:20260123T170011Z
DTSTART:20260123T103000
DTEND:20260123T123000
SUMMARY:Pretrial Supervision\n\nAssessment\n\nEllen Whelan-Wuest\, Deputy
  Division Director\, State Impacts\, Council of State Governments Justic
 e Center\n\nDavid D'Amora\, Senior Policy Advisor\, Council of State Gov
 ernments Justice Center\n\nGary Marvel\, Deputy Director of Field Servic
 es\, Department of Corrections - Room 34
TZID:America/New_York
UID:20260123T170021Z-uidGen@richgoldman-357e73
END:VEVENT
BEGIN:VALARM
TRIGGER:-PT15M
ACTION:DISPLAY
DESCRIPTION:Pretrial Supervision\n\nAssessment\n\nEllen Whelan-Wuest\, De
 puty Division Director\, State Impacts\, Council of State Governments Ju
 stice Center\n\nDavid D'Amora\, Senior Policy Advisor\, Council of State
  Governments Justice Center\n\nGary Marvel\, Deputy Director of Field Se
 rvices\, Department of Corrections - Room 34
END:VALARM
END:VCALENDAR
