BEGIN:VCALENDAR
CALSCALE:GREGORIAN
PRODID:-//Ben Fortuna//iCal4j 1.0//EN
VERSION:2.0
BEGIN:VEVENT
DTSTAMP:20260120T220010Z
DTSTART:20260123T103000
DTEND:20260123T123000
SUMMARY:Governor’s Proposed FY2027 Budget\n\nDepartment for Children and 
 Families budget\n\nSandi Hoffman\, Interim Commissioner\, Department for
  Children and Families\n\nMegan Smeaton\, Financial Director\, Departmen
 t for Children and Families - Room 46
TZID:America/New_York
UID:20260120T220117Z-uidGen@richgoldman-357e73
END:VEVENT
BEGIN:VALARM
TRIGGER:-PT15M
ACTION:DISPLAY
DESCRIPTION:Governor’s Proposed FY2027 Budget\n\nDepartment for Children 
 and Families budget\n\nSandi Hoffman\, Interim Commissioner\, Department
  for Children and Families\n\nMegan Smeaton\, Financial Director\, Depar
 tment for Children and Families - Room 46
END:VALARM
END:VCALENDAR
